BEGIN:VCALENDAR
VERSION:2.0
PRODID:-//Site officiel de la ville de Lespinasse - ECPv6.15.17.1//NONSGML v1.0//EN
CALSCALE:GREGORIAN
METHOD:PUBLISH
X-WR-CALNAME:Site officiel de la ville de Lespinasse
X-ORIGINAL-URL:https://www.ville-lespinasse.fr
X-WR-CALDESC:Évènements pour Site officiel de la ville de Lespinasse
REFRESH-INTERVAL;VALUE=DURATION:PT1H
X-Robots-Tag:noindex
X-PUBLISHED-TTL:PT1H
BEGIN:VTIMEZONE
TZID:Europe/Paris
BEGIN:DAYLIGHT
TZOFFSETFROM:+0100
TZOFFSETTO:+0200
TZNAME:CEST
DTSTART:20180325T010000
END:DAYLIGHT
BEGIN:STANDARD
TZOFFSETFROM:+0200
TZOFFSETTO:+0100
TZNAME:CET
DTSTART:20181028T010000
END:STANDARD
BEGIN:DAYLIGHT
TZOFFSETFROM:+0100
TZOFFSETTO:+0200
TZNAME:CEST
DTSTART:20190331T010000
END:DAYLIGHT
BEGIN:STANDARD
TZOFFSETFROM:+0200
TZOFFSETTO:+0100
TZNAME:CET
DTSTART:20191027T010000
END:STANDARD
BEGIN:DAYLIGHT
TZOFFSETFROM:+0100
TZOFFSETTO:+0200
TZNAME:CEST
DTSTART:20200329T010000
END:DAYLIGHT
BEGIN:STANDARD
TZOFFSETFROM:+0200
TZOFFSETTO:+0100
TZNAME:CET
DTSTART:20201025T010000
END:STANDARD
END:VTIMEZONE
BEGIN:VEVENT
DTSTART;TZID=Europe/Paris:20191125T140000
DTEND;TZID=Europe/Paris:20191125T140000
DTSTAMP:20260425T221837
CREATED:20191025T150027Z
LAST-MODIFIED:20191025T150027Z
UID:3368-1574690400-1574690400@www.ville-lespinasse.fr
SUMMARY:CBE / Atelier interactif : Apprenez à valoriser votre parcours auprès des recruteurs:
DESCRIPTION:Apprenez à valoriser votre parcours auprès des recruteurs:\n\nConnaître les attentes des employeurs dans leurs recrutements.\nIdentifier et renforcer ses acquis et apprendre à les transformer en atouts pour mieux répondre aux attentes des employeurs.\nSe mettre dans la peau du recruteur pour rendre sa candidature plus efficace.\n\nAutant de points qui seront abordés lors de cet atelier interactif qui aura lieu le 25 novembre 2019 à 14h00 au CBE\, et qui sera animé par M. Durual\, chargé de recrutement A.M.F.A.D.
URL:https://www.ville-lespinasse.fr/evenement/cbe-atelier-interactif-apprenez-a-valoriser-votre-parcours-aupres-des-recruteurs/
LOCATION:CBE NORD 31\, 117 Route de Fronton\, Aucamville\, France\, 31140
CATEGORIES:Divers
ORGANIZER;CN="CBE NORD 31":MAILTO:cbe.nord31@orange.fr
END:VEVENT
BEGIN:VEVENT
DTSTART;TZID=Europe/Paris:20191128T090000
DTEND;TZID=Europe/Paris:20191128T170000
DTSTAMP:20260425T221837
CREATED:20191025T142729Z
LAST-MODIFIED:20191025T142857Z
UID:3360-1574931600-1574960400@www.ville-lespinasse.fr
SUMMARY:Forum des métiers du numérique
DESCRIPTION:Vous vous intéressez aux métiers numériques ? \nVous souhaitez en savoir plus\, essayer\, tester\, rencontrer des professionnels ? \nLe Forum des métiers du Numérique Toulouse Nord\, à l’initiative de PcWorks31 une manifestation faite pour tous et toutes ! rencontrez les acteurs de l’économie numérique régionale et bénéficiez de réponses pratiques\, c’est le moment de relever le défi du digital. \nLes femmes ont un rôle à jouer dans le numérique ! … \, venez découvrir toutes les possibilités que les métiers du numérique vous offre. \nA travers des démonstrations et des échanges avec des professionnels\, découvrez les formations\, les métiers et les nouvelles technologies \nLaissez-vous entraîner dans la découverte des métiers et formations 2.0 qui se cachent derrière ! \nCes emplois considérés hier comme ceux du futur\, font aujourd’hui partie prenante de nos vies.
URL:https://www.ville-lespinasse.fr/evenement/3360/
LOCATION:Espace Canal Des 2 Mers\, Place du Boulodrome\, Lespinasse\, France
CATEGORIES:Divers
ATTACH;FMTTYPE=image/jpeg:https://www.ville-lespinasse.fr/wp-content/uploads/2019/10/forum-métier-numérique-28-novembre-2019.jpg
END:VEVENT
END:VCALENDAR