BEGIN:VCALENDAR
VERSION:2.0
PRODID:-//Site officiel de la ville de Lespinasse - ECPv6.15.17.1//NONSGML v1.0//EN
CALSCALE:GREGORIAN
METHOD:PUBLISH
X-ORIGINAL-URL:https://www.ville-lespinasse.fr
X-WR-CALDESC:Évènements pour Site officiel de la ville de Lespinasse
REFRESH-INTERVAL;VALUE=DURATION:PT1H
X-Robots-Tag:noindex
X-PUBLISHED-TTL:PT1H
BEGIN:VTIMEZONE
TZID:Europe/Paris
BEGIN:DAYLIGHT
TZOFFSETFROM:+0100
TZOFFSETTO:+0200
TZNAME:CEST
DTSTART:20240331T010000
END:DAYLIGHT
BEGIN:STANDARD
TZOFFSETFROM:+0200
TZOFFSETTO:+0100
TZNAME:CET
DTSTART:20241027T010000
END:STANDARD
BEGIN:DAYLIGHT
TZOFFSETFROM:+0100
TZOFFSETTO:+0200
TZNAME:CEST
DTSTART:20250330T010000
END:DAYLIGHT
BEGIN:STANDARD
TZOFFSETFROM:+0200
TZOFFSETTO:+0100
TZNAME:CET
DTSTART:20251026T010000
END:STANDARD
BEGIN:DAYLIGHT
TZOFFSETFROM:+0100
TZOFFSETTO:+0200
TZNAME:CEST
DTSTART:20260329T010000
END:DAYLIGHT
BEGIN:STANDARD
TZOFFSETFROM:+0200
TZOFFSETTO:+0100
TZNAME:CET
DTSTART:20261025T010000
END:STANDARD
END:VTIMEZONE
BEGIN:VEVENT
DTSTART;VALUE=DATE:20250626
DTEND;VALUE=DATE:20250627
DTSTAMP:20260421T101921
CREATED:20250522T132702Z
LAST-MODIFIED:20250522T132913Z
UID:19928-1750896000-1750982399@www.ville-lespinasse.fr
SUMMARY:CBE NORD 31 : Rallye emploie des communes
DESCRIPTION:Le Rallye Emploi des Communes est un événement particulier où les demandeurs d’emploi sont acteurs de leur recherche dans une démarche collective de collecte des offres d’emploi sur une zone d’activité donnée. \nLe principe : par groupes de 2 ou 3\, les demandeurs d’emploi sont envoyés prospecter dans les entreprises d’un secteur défini par la commune organisatrice et recueillent les offres d’emploi\, de stages\, d’alternance… qu’ils mettront ensuite en commun avec les autres équipes du territoire. Chaque personne ne prospecte donc pas seulement pour elle\, mais pour l’ensemble des participants à l’événement. \nAfin de préparer au mieux les participants\, l’inscription à l’événement est obligatoire dès que possible car une session d’une demi-journée sera organisée en amont de l’événement\, permettant ainsi de présenter la démarche\, les étapes qui ponctueront l’événement et les outils à utiliser. \nAvec le soutien de Toulouse Métropole et des partenaires emploi du territoire\, France Travail\, la Mission Locale Haute-Garonne\, Cap Emploi et plusieurs acteurs associatifs\, ce sont 16 communes qui participeront à l’événement le 19 juin prochain : Balma\, Blagnac\, Cornebarrieu\, les 8 communes du CBE Nord 31 (Bruguières\, Fenouillet\, Fonbeauzard\, Gagnac sur Garonne\, Gratentour\, Lespinasse\, Saint-Alban et Saint-Jory)\, Cugnaux + Portet sur Garonne\, L’Union et Saint-Jean. \n\n\n 
URL:https://www.ville-lespinasse.fr/evenement/cbe-nord-31-forum-de-lemploi-et-des-metiers-petite-enfance-enfance-jeunesse/
CATEGORIES:Divers,Municipalité
ATTACH;FMTTYPE=image/jpeg:https://www.ville-lespinasse.fr/wp-content/uploads/2025/05/1747920122248-46566735-e034-4c17-9fdc-684a98be0636_1.jpg
END:VEVENT
END:VCALENDAR