BEGIN:VCALENDAR
VERSION:2.0
PRODID:-//Site officiel de la ville de Lespinasse - ECPv6.15.17.1//NONSGML v1.0//EN
CALSCALE:GREGORIAN
METHOD:PUBLISH
X-ORIGINAL-URL:https://www.ville-lespinasse.fr
X-WR-CALDESC:Évènements pour Site officiel de la ville de Lespinasse
REFRESH-INTERVAL;VALUE=DURATION:PT1H
X-Robots-Tag:noindex
X-PUBLISHED-TTL:PT1H
BEGIN:VTIMEZONE
TZID:Europe/Paris
BEGIN:DAYLIGHT
TZOFFSETFROM:+0100
TZOFFSETTO:+0200
TZNAME:CEST
DTSTART:20210328T010000
END:DAYLIGHT
BEGIN:STANDARD
TZOFFSETFROM:+0200
TZOFFSETTO:+0100
TZNAME:CET
DTSTART:20211031T010000
END:STANDARD
BEGIN:DAYLIGHT
TZOFFSETFROM:+0100
TZOFFSETTO:+0200
TZNAME:CEST
DTSTART:20220327T010000
END:DAYLIGHT
BEGIN:STANDARD
TZOFFSETFROM:+0200
TZOFFSETTO:+0100
TZNAME:CET
DTSTART:20221030T010000
END:STANDARD
BEGIN:DAYLIGHT
TZOFFSETFROM:+0100
TZOFFSETTO:+0200
TZNAME:CEST
DTSTART:20230326T010000
END:DAYLIGHT
BEGIN:STANDARD
TZOFFSETFROM:+0200
TZOFFSETTO:+0100
TZNAME:CET
DTSTART:20231029T010000
END:STANDARD
END:VTIMEZONE
BEGIN:VEVENT
DTSTART;TZID=Europe/Paris:20221110T090000
DTEND;TZID=Europe/Paris:20221110T170000
DTSTAMP:20260423T164321
CREATED:20220923T073317Z
LAST-MODIFIED:20220923T073317Z
UID:12232-1668070800-1668099600@www.ville-lespinasse.fr
SUMMARY:EMPLOI : Job Dating à Saint Alban
DESCRIPTION:Dans le cadre de l’ouverture d’une résidence seniors à St Alban\, nous organisons un Job Dating le Jeudi 10 Novembre 2022 de 9h00 à 12h00 et 14h à 17h à la Mairie de St Alban \nAprès une présentation de l’entreprise et des métiers\, les participants disposent de quelques minutes pour se présenter. Les recruteurs posent des questions qui se concentrent sur la motivation\, les traits de personnalité et ce que le candidat pense pouvoir apporter à l’entreprise. \n10 postes à pourvoir basés à St Alban : 1 chef de cuisine H/F 1 Second de cuisine H/F 4 Agents polyvalents H/F 2 Veilleurs de nuit H/F 1 secrétaire 1 animateur/animatrice \nINSCRIPTION AUPRÈS de Nathalie Jamme : 06 18 43 84 61
URL:https://www.ville-lespinasse.fr/evenement/emploi-job-dating-a-saint-alban/
LOCATION:Mairie de Saint Alban\, Place Georges Brassens\, Saint-Alban\, 31140
CATEGORIES:Divers
ORGANIZER;CN="CBE NORD 31":MAILTO:cbe.nord31@orange.fr
END:VEVENT
END:VCALENDAR