BEGIN:VCALENDAR
VERSION:2.0
PRODID:-//Site officiel de la ville de Lespinasse - ECPv6.15.17.1//NONSGML v1.0//EN
CALSCALE:GREGORIAN
METHOD:PUBLISH
X-WR-CALNAME:Site officiel de la ville de Lespinasse
X-ORIGINAL-URL:https://www.ville-lespinasse.fr
X-WR-CALDESC:Évènements pour Site officiel de la ville de Lespinasse
REFRESH-INTERVAL;VALUE=DURATION:PT1H
X-Robots-Tag:noindex
X-PUBLISHED-TTL:PT1H
BEGIN:VTIMEZONE
TZID:Europe/Paris
BEGIN:DAYLIGHT
TZOFFSETFROM:+0100
TZOFFSETTO:+0200
TZNAME:CEST
DTSTART:20240331T010000
END:DAYLIGHT
BEGIN:STANDARD
TZOFFSETFROM:+0200
TZOFFSETTO:+0100
TZNAME:CET
DTSTART:20241027T010000
END:STANDARD
BEGIN:DAYLIGHT
TZOFFSETFROM:+0100
TZOFFSETTO:+0200
TZNAME:CEST
DTSTART:20250330T010000
END:DAYLIGHT
BEGIN:STANDARD
TZOFFSETFROM:+0200
TZOFFSETTO:+0100
TZNAME:CET
DTSTART:20251026T010000
END:STANDARD
BEGIN:DAYLIGHT
TZOFFSETFROM:+0100
TZOFFSETTO:+0200
TZNAME:CEST
DTSTART:20260329T010000
END:DAYLIGHT
BEGIN:STANDARD
TZOFFSETFROM:+0200
TZOFFSETTO:+0100
TZNAME:CET
DTSTART:20261025T010000
END:STANDARD
END:VTIMEZONE
BEGIN:VEVENT
DTSTART;TZID=Europe/Paris:20250702T150000
DTEND;TZID=Europe/Paris:20250702T190000
DTSTAMP:20260423T105842
CREATED:20250522T151149Z
LAST-MODIFIED:20250522T151149Z
UID:19936-1751468400-1751482800@www.ville-lespinasse.fr
SUMMARY:CBE NORD 31 : forum emploi-formation des métiers de la Petite Enfance\, Enfance et Animation Jeunesse
DESCRIPTION:
URL:https://www.ville-lespinasse.fr/evenement/cbe-nord-31-forum-emploi-formation-des-metiers-de-la-petite-enfance-enfance-et-animation-jeunesse/
LOCATION:Bruguières – Salle Xeraco\, Bruguières\, 31140
CATEGORIES:Divers,Municipalité
ATTACH;FMTTYPE=image/jpeg:https://www.ville-lespinasse.fr/wp-content/uploads/2025/05/Post-1080X1350-Forum-emploi-formation-2025--scaled.jpg
ORGANIZER;CN="CBE NORD 31":MAILTO:cbe.nord31@orange.fr
END:VEVENT
END:VCALENDAR