BEGIN:VCALENDAR
VERSION:2.0
PRODID:-//Site officiel de la ville de Lespinasse - ECPv6.15.17.1//NONSGML v1.0//EN
CALSCALE:GREGORIAN
METHOD:PUBLISH
X-ORIGINAL-URL:https://www.ville-lespinasse.fr
X-WR-CALDESC:Évènements pour Site officiel de la ville de Lespinasse
REFRESH-INTERVAL;VALUE=DURATION:PT1H
X-Robots-Tag:noindex
X-PUBLISHED-TTL:PT1H
BEGIN:VTIMEZONE
TZID:Europe/Paris
BEGIN:DAYLIGHT
TZOFFSETFROM:+0100
TZOFFSETTO:+0200
TZNAME:CEST
DTSTART:20240331T010000
END:DAYLIGHT
BEGIN:STANDARD
TZOFFSETFROM:+0200
TZOFFSETTO:+0100
TZNAME:CET
DTSTART:20241027T010000
END:STANDARD
BEGIN:DAYLIGHT
TZOFFSETFROM:+0100
TZOFFSETTO:+0200
TZNAME:CEST
DTSTART:20250330T010000
END:DAYLIGHT
BEGIN:STANDARD
TZOFFSETFROM:+0200
TZOFFSETTO:+0100
TZNAME:CET
DTSTART:20251026T010000
END:STANDARD
BEGIN:DAYLIGHT
TZOFFSETFROM:+0100
TZOFFSETTO:+0200
TZNAME:CEST
DTSTART:20260329T010000
END:DAYLIGHT
BEGIN:STANDARD
TZOFFSETFROM:+0200
TZOFFSETTO:+0100
TZNAME:CET
DTSTART:20261025T010000
END:STANDARD
END:VTIMEZONE
BEGIN:VEVENT
DTSTART;TZID=Europe/Paris:20250913T173000
DTEND;TZID=Europe/Paris:20250913T173000
DTSTAMP:20260423T132655
CREATED:20250819T093419Z
LAST-MODIFIED:20250910T102557Z
UID:17695-1757784600-1757784600@www.ville-lespinasse.fr
SUMMARY:FÊTE DE LA JEUNESSE
DESCRIPTION:FÊTE DE LA JEUNESSE\nLE GRAND RENDEZ-VOUS DES ENFANTS ET DES PRÉ-ADOS !\nSamedi 13 septembre 2025 | dès 17h30 | Pôle Jeunesse\nOrganisé par le\n \n\nFormidable moment de mobilisation\, la Fête de la Jeunesse permet de rassembler les jeunes de 10 à 25 ans\, afin de mieux comprendre leurs besoins\, de leur donner les moyens de s’exprimer\, de les impliquer dans l’animation de la vie locale et de réunir cette jeunesse autour de différentes thématiques : la culture\, les loisirs\, le sport\, la santé\, l’engagement citoyen\, le lien intergénérationnel et le lien interculturel. \nDes animations gratuites seront proposées tout au long de l’après-midi avec un espace jeux de société\,  et pleins d’autres surprises ! cette journée sera également l’occasion de faire un retour sur les activités de\nl’année écoulée et de se projeter sur l’année à venir\npour l’année à venir \nLa journée se clôturera dans la convivialité autour du verre de l’amitié.
URL:https://www.ville-lespinasse.fr/evenement/fete-de-la-jeunesse-2024/
LOCATION:Pôle Jeunesse\, 4\, Place du boulodrome\, lespinasse\, 31150\, France
CATEGORIES:Divers,Loisirs,Municipalité,Saison culturelle
ATTACH;FMTTYPE=image/jpeg:https://www.ville-lespinasse.fr/wp-content/uploads/2024/08/sans-titre-9-scaled.jpg
ORGANIZER;CN="P%C3%94LE JEUNESSE":MAILTO:pole.jeunesse-Lespinasse@dso.ifac.asso.fr
END:VEVENT
END:VCALENDAR