BEGIN:VCALENDAR
VERSION:2.0
PRODID:-//Site officiel de la ville de Lespinasse - ECPv6.15.17.1//NONSGML v1.0//EN
CALSCALE:GREGORIAN
METHOD:PUBLISH
X-ORIGINAL-URL:https://www.ville-lespinasse.fr
X-WR-CALDESC:Évènements pour Site officiel de la ville de Lespinasse
REFRESH-INTERVAL;VALUE=DURATION:PT1H
X-Robots-Tag:noindex
X-PUBLISHED-TTL:PT1H
BEGIN:VTIMEZONE
TZID:Europe/Paris
BEGIN:DAYLIGHT
TZOFFSETFROM:+0100
TZOFFSETTO:+0200
TZNAME:CEST
DTSTART:20220327T010000
END:DAYLIGHT
BEGIN:STANDARD
TZOFFSETFROM:+0200
TZOFFSETTO:+0100
TZNAME:CET
DTSTART:20221030T010000
END:STANDARD
BEGIN:DAYLIGHT
TZOFFSETFROM:+0100
TZOFFSETTO:+0200
TZNAME:CEST
DTSTART:20230326T010000
END:DAYLIGHT
BEGIN:STANDARD
TZOFFSETFROM:+0200
TZOFFSETTO:+0100
TZNAME:CET
DTSTART:20231029T010000
END:STANDARD
BEGIN:DAYLIGHT
TZOFFSETFROM:+0100
TZOFFSETTO:+0200
TZNAME:CEST
DTSTART:20240331T010000
END:DAYLIGHT
BEGIN:STANDARD
TZOFFSETFROM:+0200
TZOFFSETTO:+0100
TZNAME:CET
DTSTART:20241027T010000
END:STANDARD
END:VTIMEZONE
BEGIN:VEVENT
DTSTART;TZID=Europe/Paris:20230221T183000
DTEND;TZID=Europe/Paris:20230221T200000
DTSTAMP:20260425T141754
CREATED:20230207T073933Z
LAST-MODIFIED:20230207T094003Z
UID:13383-1677004200-1677009600@www.ville-lespinasse.fr
SUMMARY:DIAGNOSTIC PATRIMONIAL : Conférence le mardi 21 février
DESCRIPTION:La Municipalité invite les Lespinassois.es à une restitution publique du diagnostic patrimonial réalisé de juin à décembre 2022 par la Mission d’inventaire de Toulouse Métropole.\nSous la forme d’une conférence\, cette restitution sera animée par la Chargée d’inventaire de la Métropole qui dressera un état des lieux du patrimoine de notre Commune\, identifiera les éléments les plus remarquables et les plus représentatifs de son architecture avec comme fil conducteur une question : Quelles traces l’histoire de la Ville a t-elle laissé dans l’architecture en place aujourd’hui ? \nRendez-vous le Mardi 21 février\, à 18h30 à L’Hôtel de Ville\, Salle du Conseil Municipal (2ème étage).
URL:https://www.ville-lespinasse.fr/evenement/diagnostic-patrimonial-tm-2023/
LOCATION:Hôtel de Ville – Salle du Conseil Municipal\, Place de l'Occitanie\, Lespinasse\, 31150
CATEGORIES:Municipalité
ATTACH;FMTTYPE=image/jpeg:https://www.ville-lespinasse.fr/wp-content/uploads/2023/01/eglise-610x432-1.jpg
ORGANIZER;CN="ville de Lespinasse":MAILTO:accueil@ville-lespinasse.fr
END:VEVENT
END:VCALENDAR