BEGIN:VCALENDAR
VERSION:2.0
PRODID:-//Site officiel de la ville de Lespinasse - ECPv6.15.17.1//NONSGML v1.0//EN
CALSCALE:GREGORIAN
METHOD:PUBLISH
X-WR-CALNAME:Site officiel de la ville de Lespinasse
X-ORIGINAL-URL:https://www.ville-lespinasse.fr
X-WR-CALDESC:Évènements pour Site officiel de la ville de Lespinasse
REFRESH-INTERVAL;VALUE=DURATION:PT1H
X-Robots-Tag:noindex
X-PUBLISHED-TTL:PT1H
BEGIN:VTIMEZONE
TZID:Europe/Paris
BEGIN:DAYLIGHT
TZOFFSETFROM:+0100
TZOFFSETTO:+0200
TZNAME:CEST
DTSTART:20200329T010000
END:DAYLIGHT
BEGIN:STANDARD
TZOFFSETFROM:+0200
TZOFFSETTO:+0100
TZNAME:CET
DTSTART:20201025T010000
END:STANDARD
BEGIN:DAYLIGHT
TZOFFSETFROM:+0100
TZOFFSETTO:+0200
TZNAME:CEST
DTSTART:20210328T010000
END:DAYLIGHT
BEGIN:STANDARD
TZOFFSETFROM:+0200
TZOFFSETTO:+0100
TZNAME:CET
DTSTART:20211031T010000
END:STANDARD
BEGIN:DAYLIGHT
TZOFFSETFROM:+0100
TZOFFSETTO:+0200
TZNAME:CEST
DTSTART:20220327T010000
END:DAYLIGHT
BEGIN:STANDARD
TZOFFSETFROM:+0200
TZOFFSETTO:+0100
TZNAME:CET
DTSTART:20221030T010000
END:STANDARD
END:VTIMEZONE
BEGIN:VEVENT
DTSTART;TZID=Europe/Paris:20211201T100000
DTEND;TZID=Europe/Paris:20211201T113000
DTSTAMP:20260425T205606
CREATED:20211119T113338Z
LAST-MODIFIED:20211122T103937Z
UID:9216-1638352800-1638358200@www.ville-lespinasse.fr
SUMMARY:Spectacle de Noël du Multi-Accueil
DESCRIPTION:Spectacle de Noël du Multi-Accueil « À P’tits Pas »\n« Le voyage magique de Noël » – Compagnie Fabulouse\nMercredi 1er décembre à 10h \n \n 
URL:https://www.ville-lespinasse.fr/evenement/semaine-du-developpement-durable-2-3/
LOCATION:Pôle Petite-Enfance
CATEGORIES:Événement,Festivités de Noel,Saison culturelle
ATTACH;FMTTYPE=image/jpeg:https://www.ville-lespinasse.fr/wp-content/uploads/2021/11/le-voyage-de-noel-thumb-1.jpg
END:VEVENT
BEGIN:VEVENT
DTSTART;TZID=Europe/Paris:20211207T103000
DTEND;TZID=Europe/Paris:20211207T113000
DTSTAMP:20260425T205606
CREATED:20211119T114408Z
LAST-MODIFIED:20211122T103903Z
UID:9224-1638873000-1638876600@www.ville-lespinasse.fr
SUMMARY:Spectacle de Noël du R.A.M.
DESCRIPTION:Spectacle de Noël du Relais Assistantes Maternelles\n« Rouge cerise » – Compagnie Le Chant des Lignes\nMardi 7 décembre à 10h30 \nSpectacle réservé exclusivement aux assistantes maternelles\, et aux enfants qu’elles accueillent de manière régulière. \nUn nouveau spectacle de la Compagnie\, avec plusieurs histoires issues de la littérature actuelle. Au fil du voyage littéraire\, les malles à trésors vont s’ouvrir pour dérouler le fil rouge du spectacle jusqu’à son terme\, réjouissant et surprenant à la fois.\nLes bébés lecteurs seront plongés dans ce spectacle ciselé de chansons\, mélodies\, surprises sonores et visuelles\, et mêlé de l’inventivité des auteurs jeunesse. La Compagnie offre son plaisir de jouer avec les livres pour faire aimer la lecture et susciter l’imagination pour l’épanouissement de chacun. \nPour aller chez Mamie\, je longe le bois\, traverse la ville\, et me voilà arrivée ! Dans son jardin\, elle a planté un cerisier. Il donne de délicieuses cerises bien rouges. J’adore m’en régaler quand c’est la saison…\nMême si sa maison est un peu vieille j’aime bien y aller ; car je sais que si parfois j’ai peur\, c’est à cause des histoires que je m’imagine. Chuut ! J’ai\nentendu un petit bruit\, pas vous ? Chut ! C’est dans cette malle ! Que fait-on ? On l’ouvre ?\nEntre chaque histoire\, quelques chansonnettes et surprises sonores agrémentent le voyage littéraire. La couleur rouge (rouge cerise) est le fil\nrouge imaginé à partir d’un détail de chacune des histoires pour les mettre en scène.\nLe jeu de la comédienne conduira tout naturellement le spectateur à faire un bout de chemin avec la rêverie et le plaisir… Une chose est sûre\,\nc’est que toutes ces histoires feront grandir les enfants qui les dégusteront !\nEt s’ils sont sages\, ils auront une surprise en fin de séance ! Mais chut !
URL:https://www.ville-lespinasse.fr/evenement/semaine-du-developpement-durable-2-3-2/
LOCATION:Espace Canal Des 2 Mers\, Place du Boulodrome\, Lespinasse\, France
CATEGORIES:Événement,Festivités de Noel,Saison culturelle
ATTACH;FMTTYPE=image/jpeg:https://www.ville-lespinasse.fr/wp-content/uploads/2021/11/RougeCerise4-LeChantDesLignes-1.jpg
END:VEVENT
BEGIN:VEVENT
DTSTART;TZID=Europe/Paris:20211208T150000
DTEND;TZID=Europe/Paris:20211208T170000
DTSTAMP:20260425T205606
CREATED:20211122T104725Z
LAST-MODIFIED:20211206T115500Z
UID:9248-1638975600-1638982800@www.ville-lespinasse.fr
SUMMARY:La Médiathèque en fêtes !
DESCRIPTION:La Médiathèque fête Noël !\nAnimations gratuites lectures de contes de Noël\nMercredi 8 décembre – 15h-17h\nUn escargot qui rêve qu’il est un papillon\, Boucle d’or\, une marmite qui confectionne des gourmandises à l’envie\, une bonne cuillère de gaité et d’imagination et puis aussi une goutte d’émotion voilà la recette de -Une faim de loup !- \nSpectacle de Conte pour les petites oreilles qui ont entre 3 et 7 ans  \n-Il était une fois…– Le Petit Chaperon Rouge\, la soupe aux cailloux\, L’histoire d’un chien solitaire et celle colosse qui s’interroge…Autant de contes et d’histoires à vivre et à rêver\, Pour apprivoiser l’hiver en beauté. \nSpectacle de Conte pour les jolies oreilles qui ont entre 7 et 11 ans      \nLe tout est concocté par la Conteuse Laurence Caradec de la Cie Mille et Une Saisons
URL:https://www.ville-lespinasse.fr/evenement/mediatheque-en-fetes-2021/
LOCATION:Centre Culturel – Auditorium\, Square Alain Savary\, Lespinasse\, 31150\, France
CATEGORIES:Événement,Festivités de Noel,Saison culturelle
ATTACH;FMTTYPE=image/png:https://www.ville-lespinasse.fr/wp-content/uploads/2021/11/Encart-mediatheque-covid.png
END:VEVENT
BEGIN:VEVENT
DTSTART;TZID=Europe/Paris:20211210T210000
DTEND;TZID=Europe/Paris:20211210T230000
DTSTAMP:20260425T205606
CREATED:20211122T103830Z
LAST-MODIFIED:20211207T105106Z
UID:9229-1639170000-1639177200@www.ville-lespinasse.fr
SUMMARY:Concert solidaire Soli'Rock - ANNULÉ
DESCRIPTION:CONCERT Solidaires Soli’Rock\nOrganisé par la Ville de Lespinasse et le Point Accueil Jeunes Vendredi 10 décembre – 21h\nDroit d’entrée (au profit du Père Noël Vert) : don de jouet ou jeu \n \nRecettes de la buvette au profit du Téléthon  \nConcerts des Ecoles de musique d’Aucamville et de Fronton \nMise à jour du 07/12/2021 : évènement ANNULÉ\nLe P.A.J. ainsi que la Municipalité ont le regret d’annoncer l’annulation du Concert solidaire Soli’Rock en raison des nouvelles contraintes sanitaires mises en place suite au Conseil de défense du 06/12.
URL:https://www.ville-lespinasse.fr/evenement/solirock-2021/
LOCATION:Espace Canal Des 2 Mers\, Place du Boulodrome\, Lespinasse\, France
CATEGORIES:Événement,Festivités de Noel,Saison culturelle
ATTACH;FMTTYPE=image/png:https://www.ville-lespinasse.fr/wp-content/uploads/2021/11/Encart-SOLIROCK-annulation-complete.png
ORGANIZER;CN="P%C3%94LE JEUNESSE":MAILTO:pole.jeunesse-Lespinasse@dso.ifac.asso.fr
END:VEVENT
BEGIN:VEVENT
DTSTART;TZID=Europe/Paris:20211211T173000
DTEND;TZID=Europe/Paris:20211211T230000
DTSTAMP:20260425T205606
CREATED:20211122T114135Z
LAST-MODIFIED:20211210T112909Z
UID:9269-1639243800-1639263600@www.ville-lespinasse.fr
SUMMARY:Marché de Noël Artisanal et Gourmand : MAINTENU !
DESCRIPTION:GRANDE NOUVEAUTÉ : Marché Artisanal et Gourmand de Noël\nPlace du Boulodrome | 17h30-23h\nPour son grand retour après une année blanche\, les Festivités de Noël à Lespinasse reviennent pour votre plus grand plaisir avec comme grande nouveauté : le Marché Artisanal et Gourmand de Noël ! \n17h30 – 23h : Marché Artisanal et Gourmand de Noël\nArtisans\, créateurs\, idées cadeaux\, dégustations\, marrons chauds\, chocolat chaud et vin chaud. \nFood-truck montagnard (tartiflette\, burger montagnard…)\, Bar à Huîtres et fruits de mers\, stand gourmandises (crêpes\, gaufres\, etc)  \nAnimations gratuites : Piste de luge géante de Noël\, Balades en calèche\, Structures gonflables\, Déambulation du Père Noël\, stand de gourmandises \n \n \n  \n  \n  \n  \n17h30 : Spectacle nocturne de Noël \n  \n  \n  \n  \n  \n  \n  \n  \n  \n  \n  \n18h15 : Grande parade lumineuse avec Mascottes et Père Noël \n \n  \n  \n  \n  \n  \n  \n  \n  \n  \n18h-22h : Concert de Noël avec Chouchou Band \n \n  \n  \n  \n  \n  \n  \n 
URL:https://www.ville-lespinasse.fr/evenement/marche-de-noel-2021/
LOCATION:Place du boulodrome\, Place du boulodrome\, LESPINASSE\, Haute-Garonne\, 31150\, France
CATEGORIES:Événement,Festivités de Noel,Saison culturelle
ATTACH;FMTTYPE=image/png:https://www.ville-lespinasse.fr/wp-content/uploads/2021/11/Encart-Marche-de-Noel-1.png
END:VEVENT
END:VCALENDAR