BEGIN:VCALENDAR
VERSION:2.0
PRODID:-//Site officiel de la ville de Lespinasse - ECPv6.15.17.1//NONSGML v1.0//EN
CALSCALE:GREGORIAN
METHOD:PUBLISH
X-ORIGINAL-URL:https://www.ville-lespinasse.fr
X-WR-CALDESC:Évènements pour Site officiel de la ville de Lespinasse
REFRESH-INTERVAL;VALUE=DURATION:PT1H
X-Robots-Tag:noindex
X-PUBLISHED-TTL:PT1H
BEGIN:VTIMEZONE
TZID:Europe/Paris
BEGIN:DAYLIGHT
TZOFFSETFROM:+0100
TZOFFSETTO:+0200
TZNAME:CEST
DTSTART:20210328T010000
END:DAYLIGHT
BEGIN:STANDARD
TZOFFSETFROM:+0200
TZOFFSETTO:+0100
TZNAME:CET
DTSTART:20211031T010000
END:STANDARD
BEGIN:DAYLIGHT
TZOFFSETFROM:+0100
TZOFFSETTO:+0200
TZNAME:CEST
DTSTART:20220327T010000
END:DAYLIGHT
BEGIN:STANDARD
TZOFFSETFROM:+0200
TZOFFSETTO:+0100
TZNAME:CET
DTSTART:20221030T010000
END:STANDARD
BEGIN:DAYLIGHT
TZOFFSETFROM:+0100
TZOFFSETTO:+0200
TZNAME:CEST
DTSTART:20230326T010000
END:DAYLIGHT
BEGIN:STANDARD
TZOFFSETFROM:+0200
TZOFFSETTO:+0100
TZNAME:CET
DTSTART:20231029T010000
END:STANDARD
END:VTIMEZONE
BEGIN:VEVENT
DTSTART;TZID=Europe/Paris:20220617T220000
DTEND;TZID=Europe/Paris:20220619T233000
DTSTAMP:20260423T194822
CREATED:20220208T150953Z
LAST-MODIFIED:20220617T090732Z
UID:3586-1655503200-1655681400@www.ville-lespinasse.fr
SUMMARY:Lespinasse en Fête 2022
DESCRIPTION:Mise à jour 17/06 : Le grand feu d’artifice du Vendredi 17 juin à 22h est MAINTENU\nMise à jour 15/06 : En raison de l’Alerte canicule niveau orange déclenchée ce mercredi 15/06 à 16h\, la soirée mousse spécial juniors du Vendredi 17 juin à 18h est ANNULÉE.\nLa soirée mousse Adultes avec DJ COPACABANA est MAINTENUE à 22h.\nConsultez l’Arrêté Municipal temporaire  \n\nPROGRAMME\nConsulter le programme en ligne \nVENDREDI 17 JUIN\nLAC DU BOCAGE\n22h / Grand feu d’artifice MAINTENU \nPLACE JEAN-MARIE RIPERT\n18h – 19h / Soirée Mousse spécial juniors ANNULÉE\n22h / Ouverture des festivités avec DJ COPACABANA  –  Soirée Mousse Adultes MAINTENUE \nSAMEDI 18 JUIN\nLAC DES MILLIÈRES (Gagnac-sur-garonne)\n09h / Concours de pêche \nPLACE JEAN-MARIE RIPERT\n12h00 / Remise des récompenses du concours\n19h00 / Repas espagnol (sur inscription)\n22h00 / Soirée avec l’orchestre OCTANE \nDIMANCHE 19 JUIN\nPLACE JEAN-MARIE RIPERT\n12h / Apéritif\n14h / Jeux pour enfants\n18h / Apéritif musical et tapas\n22h / Soirée avec l’Orchestre «MIAMI»\n00h / Tirage de la Tombola
URL:https://www.ville-lespinasse.fr/evenement/fete-locale/
LOCATION:Place du boulodrome\, Place du boulodrome\, LESPINASSE\, Haute-Garonne\, 31150\, France
CATEGORIES:Associations,Municipalité
ATTACH;FMTTYPE=image/jpeg:https://www.ville-lespinasse.fr/wp-content/uploads/2019/11/fête-forraine.jpg
ORGANIZER;CN="Association 'Comit%C3%A9 Festif'":MAILTO:comitefestiflespinasse@hotmail.com
END:VEVENT
END:VCALENDAR