BEGIN:VCALENDAR
VERSION:2.0
PRODID:-//Site officiel de la ville de Lespinasse - ECPv6.15.17.1//NONSGML v1.0//EN
CALSCALE:GREGORIAN
METHOD:PUBLISH
X-ORIGINAL-URL:https://www.ville-lespinasse.fr
X-WR-CALDESC:Évènements pour Site officiel de la ville de Lespinasse
REFRESH-INTERVAL;VALUE=DURATION:PT1H
X-Robots-Tag:noindex
X-PUBLISHED-TTL:PT1H
BEGIN:VTIMEZONE
TZID:Europe/Paris
BEGIN:DAYLIGHT
TZOFFSETFROM:+0100
TZOFFSETTO:+0200
TZNAME:CEST
DTSTART:20180325T010000
END:DAYLIGHT
BEGIN:STANDARD
TZOFFSETFROM:+0200
TZOFFSETTO:+0100
TZNAME:CET
DTSTART:20181028T010000
END:STANDARD
BEGIN:DAYLIGHT
TZOFFSETFROM:+0100
TZOFFSETTO:+0200
TZNAME:CEST
DTSTART:20190331T010000
END:DAYLIGHT
BEGIN:STANDARD
TZOFFSETFROM:+0200
TZOFFSETTO:+0100
TZNAME:CET
DTSTART:20191027T010000
END:STANDARD
BEGIN:DAYLIGHT
TZOFFSETFROM:+0100
TZOFFSETTO:+0200
TZNAME:CEST
DTSTART:20200329T010000
END:DAYLIGHT
BEGIN:STANDARD
TZOFFSETFROM:+0200
TZOFFSETTO:+0100
TZNAME:CET
DTSTART:20201025T010000
END:STANDARD
END:VTIMEZONE
BEGIN:VEVENT
DTSTART;TZID=Europe/Paris:20191104T080000
DTEND;TZID=Europe/Paris:20191104T170000
DTSTAMP:20260424T020957
CREATED:20191104T101047Z
LAST-MODIFIED:20191104T101113Z
UID:3478-1572854400-1572886800@www.ville-lespinasse.fr
SUMMARY:NOËL A LA CRÈCHE: spectacle "Joyeux Noël LILI CHIPIE!"
DESCRIPTION:Les Compagnies FABULOUS et POPATEX  présentent le spectacle de « Joyeux Noël LILI CHIPIE! » Un spectacle jeune public qui mélange théâtre et magie à partir de 6 mois jusqu’à 6 ans. (RÉSERVÉ AUX ENFANTS FRÉQUENTANT LE MULTI-ACCUEIL « A P’TIT PAS ») \nC’est la nuit de Noël et Lili doit attendre le matin pour ouvrir ses cadeaux… Impossible de dormir ! Elle n’en fait qu’à sa tête et se faufile dans le salon. Le Père Noël vient juste de déposer les cadeaux au pied du sapin et il est reparti aussitôt pour ne pas prendre de retard sur sa longue tournée. Lili est une vraie chipie et les bêtises commencent ! Les cadeaux se transforment : un château de princesse\, un chameau\, une plante bavarde… et bien d’autres surprises sortent des boites pour animer cette nuit magique de Noël !
URL:https://www.ville-lespinasse.fr/evenement/noel-a-la-creche/
CATEGORIES:Municipalité
ATTACH;FMTTYPE=image/jpeg:https://www.ville-lespinasse.fr/wp-content/uploads/2019/11/Joyeux-noel-lillie-chipie-1.jpg
END:VEVENT
END:VCALENDAR